BEGIN:VCALENDAR
VERSION:2.0
CALSCALE:GREGORIAN
PRODID:-//Diputació de Barcelona//DibaCMS//EN
BEGIN:VEVENT
UID:1967
DTSTAMP:20260425T220141
DTSTART:20191208T180000
DTEND:20191208T200000
SUMMARY:Encén el Nadal
LOCATION:
METHOD:PUBLISH
X-WR-CALNAME:castellbell@castellbellielvilar.cat
X-WR-TIMEZONE:Europe/Madrid
DESCRIPTION:A la plaça Lluís Companys a partir de les 6 de la tarda

URI:https://www.castellbellielvilar.cat/actualitat/agenda/encen-el-nadal.html
CLASS:PUBLIC
END:VEVENT
END:VCALENDAR
