BEGIN:VCALENDAR
VERSION:2.0
CALSCALE:GREGORIAN
PRODID:-//Diputació de Barcelona//DibaCMS//EN
BEGIN:VEVENT
UID:1965
DTSTAMP:20260425T200211
DTSTART:20191121T170000
DTEND:20191121T190000
SUMMARY:Taller sobre la violència masclista
LOCATION:
METHOD:PUBLISH
X-WR-CALNAME:castellbell@castellbellielvilar.cat
X-WR-TIMEZONE:Europe/Madrid
DESCRIPTION:Al Casal de Joves de La Bauma

URI:https://www.castellbellielvilar.cat/actualitat/agenda/taller-sobre-la-violencia-masclista.html
CLASS:PUBLIC
END:VEVENT
END:VCALENDAR
