BEGIN:VCALENDAR
VERSION:2.0
CALSCALE:GREGORIAN
PRODID:-//Diputació de Barcelona//DibaCMS//EN
BEGIN:VEVENT
UID:1945
DTSTAMP:20260426T000536
DTSTART:20191027T000000
DTEND:20191027T000000
SUMMARY:Caminada Centre Excursionista Corriols
LOCATION:
METHOD:PUBLISH
X-WR-CALNAME:castellbell@castellbellielvilar.cat
X-WR-TIMEZONE:Europe/Madrid
DESCRIPTION:'La Bauma: camins de ferro i asfalt'

URI:https://www.castellbellielvilar.cat/actualitat/agenda/caminada-centre-excursionista-corriols.html
CLASS:PUBLIC
END:VEVENT
END:VCALENDAR
