BEGIN:VCALENDAR
VERSION:2.0
CALSCALE:GREGORIAN
PRODID:-//Diputació de Barcelona//DibaCMS//EN
BEGIN:VEVENT
UID:1944
DTSTAMP:20260425T220322
DTSTART:20191031T210000
DTEND:20191031T230000
SUMMARY:Castanyada al Burés
LOCATION:
METHOD:PUBLISH
X-WR-CALNAME:castellbell@castellbellielvilar.cat
X-WR-TIMEZONE:Europe/Madrid
DESCRIPTION:A partir de les 9 del vespre a la plaça Lluís Companys

URI:https://www.castellbellielvilar.cat/actualitat/agenda/castanyada-al-bures.html
CLASS:PUBLIC
END:VEVENT
END:VCALENDAR
