BEGIN:VCALENDAR
VERSION:2.0
CALSCALE:GREGORIAN
PRODID:-//Diputació de Barcelona//DibaCMS//EN
BEGIN:VEVENT
UID:1939
DTSTAMP:20260426T052808
DTSTART:20191016T184500
DTEND:20191016T200000
SUMMARY:Conferència 'Com prevenir el Càncer de Mama'
LOCATION:
METHOD:PUBLISH
X-WR-CALNAME:castellbell@castellbellielvilar.cat
X-WR-TIMEZONE:Europe/Madrid
DESCRIPTION:
URI:https://www.castellbellielvilar.cat/actualitat/agenda/conferencia-com-prevenir-el-cancer-de-mama.html
CLASS:PUBLIC
END:VEVENT
END:VCALENDAR
