BEGIN:VCALENDAR
VERSION:2.0
CALSCALE:GREGORIAN
PRODID:-//Diputació de Barcelona//DibaCMS//EN
BEGIN:VEVENT
UID:1938
DTSTAMP:20260426T000713
DTSTART:20191024T180000
DTEND:20191024T193000
SUMMARY:S'inicia temporada de dinamització de la Biblioteca Municipal Maria Malla
LOCATION:
METHOD:PUBLISH
X-WR-CALNAME:castellbell@castellbellielvilar.cat
X-WR-TIMEZONE:Europe/Madrid
DESCRIPTION:A partir del proper dijous 24 d'octubre, coincidint amb el Dia de la Biblioteca, en què es farà una mostra de les activitats extraescolars que es poden fer al municipi

URI:https://www.castellbellielvilar.cat/actualitat/agenda/sinicia-temporada-de-dinamitzacio-de-la-biblioteca-municipal-maria-malla.html
CLASS:PUBLIC
END:VEVENT
END:VCALENDAR
