BEGIN:VCALENDAR
VERSION:2.0
CALSCALE:GREGORIAN
PRODID:-//Diputació de Barcelona//DibaCMS//EN
BEGIN:VEVENT
UID:1931
DTSTAMP:20260425T182343
DTSTART:20191215T100000
DTEND:20191215T140000
SUMMARY:Mercat de segona mà i d'ocasió
LOCATION:
METHOD:PUBLISH
X-WR-CALNAME:castellbell@castellbellielvilar.cat
X-WR-TIMEZONE:Europe/Madrid
DESCRIPTION:Si esteu interessat a muntar parada les inscripcions s'han de fer a l'OAC

URI:https://www.castellbellielvilar.cat/actualitat/agenda/mercat-de-segona-ma-i-docasio.html
CLASS:PUBLIC
END:VEVENT
END:VCALENDAR
