BEGIN:VCALENDAR
VERSION:2.0
CALSCALE:GREGORIAN
PRODID:-//Diputació de Barcelona//DibaCMS//EN
BEGIN:VEVENT
UID:1929
DTSTAMP:20260426T014727
DTSTART:20191026T100000
DTEND:20191026T140000
SUMMARY:Taller de comunicació 2.0 per a entitats
LOCATION:
METHOD:PUBLISH
X-WR-CALNAME:castellbell@castellbellielvilar.cat
X-WR-TIMEZONE:Europe/Madrid
DESCRIPTION:La data límit per a inscriure's és el 22 d'octubre

URI:https://www.castellbellielvilar.cat/actualitat/agenda/taller-de-comunicacio-20-per-a-entitats.html
CLASS:PUBLIC
END:VEVENT
END:VCALENDAR
