BEGIN:VCALENDAR
VERSION:2.0
CALSCALE:GREGORIAN
PRODID:-//Diputació de Barcelona//DibaCMS//EN
BEGIN:VEVENT
UID:1928
DTSTAMP:20260426T012423
DTSTART:20191005T090000
DTEND:20191005T120000
SUMMARY:Caminada canina
LOCATION:
METHOD:PUBLISH
X-WR-CALNAME:castellbell@castellbellielvilar.cat
X-WR-TIMEZONE:Europe/Madrid
DESCRIPTION:En el marc del Dia Internacional dels Animals

URI:https://www.castellbellielvilar.cat/actualitat/agenda/caminada-canina.html
CLASS:PUBLIC
END:VEVENT
END:VCALENDAR
