BEGIN:VCALENDAR
VERSION:2.0
CALSCALE:GREGORIAN
PRODID:-//Diputació de Barcelona//DibaCMS//EN
BEGIN:VEVENT
UID:1924
DTSTAMP:20260425T220336
DTSTART:20190928T190000
DTEND:20190928T220000
SUMMARY:Presentació FS Castellbell
LOCATION:
METHOD:PUBLISH
X-WR-CALNAME:castellbell@castellbellielvilar.cat
X-WR-TIMEZONE:Europe/Madrid
DESCRIPTION:Després del partit hi haurà sopar, infalble per als més menuts i dj d'ambient

URI:https://www.castellbellielvilar.cat/actualitat/agenda/presentacio-fs-castellbell.html
CLASS:PUBLIC
END:VEVENT
END:VCALENDAR
