BEGIN:VCALENDAR
VERSION:2.0
CALSCALE:GREGORIAN
PRODID:-//Diputació de Barcelona//DibaCMS//EN
BEGIN:VEVENT
UID:1914
DTSTAMP:20260426T051704
DTSTART:20190920T190000
DTEND:20190920T210000
SUMMARY:Homenatge als tres alcaldes republicans afusellats pel franquisme l’any 1939
LOCATION:
METHOD:PUBLISH
X-WR-CALNAME:castellbell@castellbellielvilar.cat
X-WR-TIMEZONE:Europe/Madrid
DESCRIPTION:El municipi recordarà la vida d’Esteve Biosca, Isidre Vila i Salvador Vila divendres al Centre Cultural Joan Masats

URI:https://www.castellbellielvilar.cat/actualitat/agenda/homenatge-als-tres-alcaldes-republicans-afusellats-pel-franquisme-lany-1939.html
CLASS:PUBLIC
END:VEVENT
END:VCALENDAR
