BEGIN:VCALENDAR
VERSION:2.0
CALSCALE:GREGORIAN
PRODID:-//Diputació de Barcelona//DibaCMS//EN
BEGIN:VEVENT
UID:1911
DTSTAMP:20260425T200906
DTSTART:20190914T100000
DTEND:20190914T130000
SUMMARY:Trobada de Puntaires
LOCATION:
METHOD:PUBLISH
X-WR-CALNAME:castellbell@castellbellielvilar.cat
X-WR-TIMEZONE:Europe/Madrid
DESCRIPTION:A la Plaça Barcelona amb la col·laboració de l'Ajuntament de Castellbell i el Vilar

URI:https://www.castellbellielvilar.cat/actualitat/agenda/trobada-de-puntaires.html
CLASS:PUBLIC
END:VEVENT
END:VCALENDAR
