BEGIN:VCALENDAR
VERSION:2.0
CALSCALE:GREGORIAN
PRODID:-//Diputació de Barcelona//DibaCMS//EN
BEGIN:VEVENT
UID:1909
DTSTAMP:20260425T132310
DTSTART:20190910T210000
DTEND:20190911T130000
SUMMARY:Diada Nacional de Catalunya a Castellbell i el Vilar
LOCATION:
METHOD:PUBLISH
X-WR-CALNAME:castellbell@castellbellielvilar.cat
X-WR-TIMEZONE:Europe/Madrid
DESCRIPTION:Els actes començaran amb la Marxa de Torxes dimarts al vespre i acabaran dimecres al matí amb l'acte commemoratiu del 80è aniversari de l'afusellament dels tres alcaldes republicans del municipi. 

URI:https://www.castellbellielvilar.cat/actualitat/agenda/diada-nacional-de-catalunya-a-castellbell-i-el-vilar.html
CLASS:PUBLIC
END:VEVENT
END:VCALENDAR
