BEGIN:VCALENDAR
VERSION:2.0
CALSCALE:GREGORIAN
PRODID:-//Diputació de Barcelona//DibaCMS//EN
BEGIN:VEVENT
UID:1905
DTSTAMP:20260426T014815
DTSTART:20191004T090000
DTEND:20191004T143000
SUMMARY:Jornada de networking a Can Padró
LOCATION:
METHOD:PUBLISH
X-WR-CALNAME:castellbell@castellbellielvilar.cat
X-WR-TIMEZONE:Europe/Madrid
DESCRIPTION:Inscripcions obertes

URI:https://www.castellbellielvilar.cat/actualitat/agenda/jornada-de-networking-a-can-padro.html
CLASS:PUBLIC
END:VEVENT
END:VCALENDAR
