BEGIN:VCALENDAR
VERSION:2.0
CALSCALE:GREGORIAN
PRODID:-//Diputació de Barcelona//DibaCMS//EN
BEGIN:VEVENT
UID:1889
DTSTAMP:20260425T200954
DTSTART:20190812T000000
DTEND:20190813T000000
SUMMARY:Acampada per a infants i joves
LOCATION:
METHOD:PUBLISH
X-WR-CALNAME:castellbell@castellbellielvilar.cat
X-WR-TIMEZONE:Europe/Madrid
DESCRIPTION:La data límit per inscriure-us acaba el 3 d'agost

URI:https://www.castellbellielvilar.cat/actualitat/agenda/acampada-per-a-infants-i-joves.html
CLASS:PUBLIC
END:VEVENT
END:VCALENDAR
