BEGIN:VCALENDAR
VERSION:2.0
CALSCALE:GREGORIAN
PRODID:-//Diputació de Barcelona//DibaCMS//EN
BEGIN:VEVENT
UID:1881
DTSTAMP:20260425T164332
DTSTART:20190817T193000
DTEND:20190818T010000
SUMMARY:Sopar de cine
LOCATION:
METHOD:PUBLISH
X-WR-CALNAME:castellbell@castellbellielvilar.cat
X-WR-TIMEZONE:Europe/Madrid
DESCRIPTION:En el marc de la Festa Major amb l'actuació de l'Orquestra Rosaleda

URI:https://www.castellbellielvilar.cat/actualitat/agenda/sopar-de-cine.html
CLASS:PUBLIC
END:VEVENT
END:VCALENDAR
