BEGIN:VCALENDAR
VERSION:2.0
CALSCALE:GREGORIAN
PRODID:-//Diputació de Barcelona//DibaCMS//EN
BEGIN:VEVENT
UID:1878
DTSTAMP:20260425T182431
DTSTART:20190717T180000
DTEND:20190717T190000
SUMMARY:Com utilitzar els nous telèfons mòbils? 
LOCATION:
METHOD:PUBLISH
X-WR-CALNAME:castellbell@castellbellielvilar.cat
X-WR-TIMEZONE:Europe/Madrid
DESCRIPTION:Xerrada informativa per a la gent gran a càrrec de Jordi Folk i Toni Sànchez al Casal del Pensionista

URI:https://www.castellbellielvilar.cat/actualitat/agenda/com-utilitzar-els-nous-telefons-mobils-.html
CLASS:PUBLIC
END:VEVENT
END:VCALENDAR
