BEGIN:VCALENDAR
VERSION:2.0
CALSCALE:GREGORIAN
PRODID:-//Diputació de Barcelona//DibaCMS//EN
BEGIN:VEVENT
UID:1865
DTSTAMP:20260425T215846
DTSTART:20190706T000000
DTEND:20190714T000000
SUMMARY:Festa Major Sant Cristòfol
LOCATION:
METHOD:PUBLISH
X-WR-CALNAME:castellbell@castellbellielvilar.cat
X-WR-TIMEZONE:Europe/Madrid
DESCRIPTION:Programa de Festa Major

URI:https://www.castellbellielvilar.cat/actualitat/agenda/festa-major-sant-cristofol.html
CLASS:PUBLIC
END:VEVENT
END:VCALENDAR
