BEGIN:VCALENDAR
VERSION:2.0
CALSCALE:GREGORIAN
PRODID:-//Diputació de Barcelona//DibaCMS//EN
BEGIN:VEVENT
UID:1864
DTSTAMP:20260425T131229
DTSTART:20190725T180000
DTEND:20190725T190000
SUMMARY:Taller per fer el teu heroi o super heroïna de plastilina
LOCATION:
METHOD:PUBLISH
X-WR-CALNAME:castellbell@castellbellielvilar.cat
X-WR-TIMEZONE:Europe/Madrid
DESCRIPTION:Consulteu els detalls en el document adjunt.

URI:https://www.castellbellielvilar.cat/actualitat/agenda/taller-per-fer-el-teu-heroi-o-super-heroina-de-plastilina.html
CLASS:PUBLIC
END:VEVENT
END:VCALENDAR
