BEGIN:VCALENDAR
VERSION:2.0
CALSCALE:GREGORIAN
PRODID:-//Diputació de Barcelona//DibaCMS//EN
BEGIN:VEVENT
UID:1862
DTSTAMP:20260425T164432
DTSTART:20190704T180000
DTEND:20190704T190000
SUMMARY:Taller Bibliopiscina
LOCATION:
METHOD:PUBLISH
X-WR-CALNAME:castellbell@castellbellielvilar.cat
X-WR-TIMEZONE:Europe/Madrid
DESCRIPTION:
URI:https://www.castellbellielvilar.cat/actualitat/agenda/taller-bibliopiscina.html
CLASS:PUBLIC
END:VEVENT
END:VCALENDAR
