BEGIN:VCALENDAR
VERSION:2.0
CALSCALE:GREGORIAN
PRODID:-//Diputació de Barcelona//DibaCMS//EN
BEGIN:VEVENT
UID:1860
DTSTAMP:20260425T131153
DTSTART:20190720T210000
DTEND:20190721T220000
SUMMARY:Festa del Burés
LOCATION:
METHOD:PUBLISH
X-WR-CALNAME:castellbell@castellbellielvilar.cat
X-WR-TIMEZONE:Europe/Madrid
DESCRIPTION:
URI:https://www.castellbellielvilar.cat/actualitat/agenda/festa-del-bures.html
CLASS:PUBLIC
END:VEVENT
END:VCALENDAR
