BEGIN:VCALENDAR
VERSION:2.0
CALSCALE:GREGORIAN
PRODID:-//Diputació de Barcelona//DibaCMS//EN
BEGIN:VEVENT
UID:1851
DTSTAMP:20260425T150658
DTSTART:20190705T180000
DTEND:20190705T190000
SUMMARY:'Cara a cara' activitat per a tothom a càrrec de Salamandra
LOCATION:
METHOD:PUBLISH
X-WR-CALNAME:castellbell@castellbellielvilar.cat
X-WR-TIMEZONE:Europe/Madrid
DESCRIPTION:Llegiu els detalls de l'activitat en el document adjunt

URI:https://www.castellbellielvilar.cat/actualitat/agenda/cara-a-cara-activitat-per-a-tothom-a-carrec-de-salamandra.html
CLASS:PUBLIC
END:VEVENT
END:VCALENDAR
