BEGIN:VCALENDAR
VERSION:2.0
CALSCALE:GREGORIAN
PRODID:-//Diputació de Barcelona//DibaCMS//EN
BEGIN:VEVENT
UID:1844
DTSTAMP:20260425T132322
DTSTART:20190625T000000
DTEND:20190627T000000
SUMMARY:Voleu sortir al cartell de la Festa Major?
LOCATION:
METHOD:PUBLISH
X-WR-CALNAME:castellbell@castellbellielvilar.cat
X-WR-TIMEZONE:Europe/Madrid
DESCRIPTION:Veniu a fer-vos una foto a 'Fotoestudi Camparola' aquest final de juny en una edició de la festa que enguany segueix la temàtica del cine

URI:https://www.castellbellielvilar.cat/actualitat/agenda/voleu-sortir-al-cartell-de-la-festa-major.html
CLASS:PUBLIC
END:VEVENT
END:VCALENDAR
