BEGIN:VCALENDAR
VERSION:2.0
CALSCALE:GREGORIAN
PRODID:-//Diputació de Barcelona//DibaCMS//EN
BEGIN:VEVENT
UID:1838
DTSTAMP:20260425T164257
DTSTART:20190719T213000
DTEND:20190719T233000
SUMMARY:Concert de la Capella de Música Burés
LOCATION:
METHOD:PUBLISH
X-WR-CALNAME:castellbell@castellbellielvilar.cat
X-WR-TIMEZONE:Europe/Madrid
DESCRIPTION:En el marc del Festival Cant Coral Catalunya Centre

URI:https://www.castellbellielvilar.cat/actualitat/agenda/concert-de-la-capella-de-musica-bures.html
CLASS:PUBLIC
END:VEVENT
END:VCALENDAR
