BEGIN:VCALENDAR
VERSION:2.0
CALSCALE:GREGORIAN
PRODID:-//Diputació de Barcelona//DibaCMS//EN
BEGIN:VEVENT
UID:1836
DTSTAMP:20260425T132159
DTSTART:20190717T213000
DTEND:20190717T233000
SUMMARY:Concert del COR MIRCE ACEV de Macedònia 
LOCATION:
METHOD:PUBLISH
X-WR-CALNAME:castellbell@castellbellielvilar.cat
X-WR-TIMEZONE:Europe/Madrid
DESCRIPTION:En el marc del Festival Cant Coral Catalunya Centre

URI:https://www.castellbellielvilar.cat/actualitat/agenda/concert-del-cor-mirce-acev-de-macedonia-.html
CLASS:PUBLIC
END:VEVENT
END:VCALENDAR
