BEGIN:VCALENDAR
VERSION:2.0
CALSCALE:GREGORIAN
PRODID:-//Diputació de Barcelona//DibaCMS//EN
BEGIN:VEVENT
UID:1833
DTSTAMP:20260425T182251
DTSTART:20190630T100000
DTEND:20190630T120000
SUMMARY:XIII Lliga Intercomarcal d'Enganxes Amateur
LOCATION:
METHOD:PUBLISH
X-WR-CALNAME:castellbell@castellbellielvilar.cat
X-WR-TIMEZONE:Europe/Madrid
DESCRIPTION:Al camp de futbol de La Bauma

URI:https://www.castellbellielvilar.cat/actualitat/agenda/xiii-lliga-intercomarcal-denganxes-amateur.html
CLASS:PUBLIC
END:VEVENT
END:VCALENDAR
