BEGIN:VCALENDAR
VERSION:2.0
CALSCALE:GREGORIAN
PRODID:-//Diputació de Barcelona//DibaCMS//EN
BEGIN:VEVENT
UID:1825
DTSTAMP:20260425T215649
DTSTART:20190823T220000
DTEND:20190823T234500
SUMMARY:Sopar-concert a les piscines amb 'David Ros'
LOCATION:
METHOD:PUBLISH
X-WR-CALNAME:castellbell@castellbellielvilar.cat
X-WR-TIMEZONE:Europe/Madrid
DESCRIPTION:
URI:https://www.castellbellielvilar.cat/actualitat/agenda/sopar-concert-a-les-piscines-amb-david-ros.html
CLASS:PUBLIC
END:VEVENT
END:VCALENDAR
