BEGIN:VCALENDAR
VERSION:2.0
CALSCALE:GREGORIAN
PRODID:-//Diputació de Barcelona//DibaCMS//EN
BEGIN:VEVENT
UID:1822
DTSTAMP:20260425T132339
DTSTART:20190628T220000
DTEND:20190628T234500
SUMMARY:Sopar-concert a les piscines amb '4 CAT'
LOCATION:
METHOD:PUBLISH
X-WR-CALNAME:castellbell@castellbellielvilar.cat
X-WR-TIMEZONE:Europe/Madrid
DESCRIPTION:En el marc de la programació de concerts aquesta temporada d'estiu a les piscines municipals

URI:https://www.castellbellielvilar.cat/actualitat/agenda/sopar-concert-a-les-piscines-amb-4-cat.html
CLASS:PUBLIC
END:VEVENT
END:VCALENDAR
