BEGIN:VCALENDAR
VERSION:2.0
CALSCALE:GREGORIAN
PRODID:-//Diputació de Barcelona//DibaCMS//EN
BEGIN:VEVENT
UID:1821
DTSTAMP:20260425T131353
DTSTART:20190705T220000
DTEND:20190705T234500
SUMMARY:Sopar-concert a les piscines amb 'Juli Piris'
LOCATION:
METHOD:PUBLISH
X-WR-CALNAME:castellbell@castellbellielvilar.cat
X-WR-TIMEZONE:Europe/Madrid
DESCRIPTION:En el marc de la programació de concerts aquesta temporada d'estiu a les piscines municipals

URI:https://www.castellbellielvilar.cat/actualitat/agenda/sopar-concert-a-les-piscines-amb-juli-piris.html
CLASS:PUBLIC
END:VEVENT
END:VCALENDAR
