BEGIN:VCALENDAR
VERSION:2.0
CALSCALE:GREGORIAN
PRODID:-//Diputació de Barcelona//DibaCMS//EN
BEGIN:VEVENT
UID:1819
DTSTAMP:20260425T145718
DTSTART:20190623T200000
DTEND:20190623T235500
SUMMARY:Revetlla de Sant Joan a La Bauma
LOCATION:
METHOD:PUBLISH
X-WR-CALNAME:castellbell@castellbellielvilar.cat
X-WR-TIMEZONE:Europe/Madrid
DESCRIPTION:
URI:https://www.castellbellielvilar.cat/actualitat/agenda/revetlla-de-sant-joan-a-la-bauma.html
CLASS:PUBLIC
END:VEVENT
END:VCALENDAR
