BEGIN:VCALENDAR
VERSION:2.0
CALSCALE:GREGORIAN
PRODID:-//Diputació de Barcelona//DibaCMS//EN
BEGIN:VEVENT
UID:1809
DTSTAMP:20260425T164202
DTSTART:20190615T000000
DTEND:20190615T000000
SUMMARY:Festes del Barri Sellarès
LOCATION:
METHOD:PUBLISH
X-WR-CALNAME:castellbell@castellbellielvilar.cat
X-WR-TIMEZONE:Europe/Madrid
DESCRIPTION:Organitzades per l'Associació de Veïns del barri Sellarès

URI:https://www.castellbellielvilar.cat/actualitat/agenda/festes-del-barri-sellares.html
CLASS:PUBLIC
END:VEVENT
END:VCALENDAR
