BEGIN:VCALENDAR
VERSION:2.0
CALSCALE:GREGORIAN
PRODID:-//Diputació de Barcelona//DibaCMS//EN
BEGIN:VEVENT
UID:1805
DTSTAMP:20260426T014904
DTSTART:20191006T104500
DTEND:20191006T153000
SUMMARY:La XXIV Travessa en BTT Sant Joan Despí-Montserrat passarà per Castellbell i el Vilar
LOCATION:
METHOD:PUBLISH
X-WR-CALNAME:castellbell@castellbellielvilar.cat
X-WR-TIMEZONE:Europe/Madrid
DESCRIPTION:Els participants entraran al terme municipal per la Calcina

URI:https://www.castellbellielvilar.cat/actualitat/agenda/la-xxiv-travessa-en-btt-sant-joan-despi-montserrat-passara-per-castellbell-i-el-vilar.html
CLASS:PUBLIC
END:VEVENT
END:VCALENDAR
