BEGIN:VCALENDAR
VERSION:2.0
CALSCALE:GREGORIAN
PRODID:-//Diputació de Barcelona//DibaCMS//EN
BEGIN:VEVENT
UID:1774
DTSTAMP:20260425T131303
DTSTART:20190505T090000
DTEND:20190505T140000
SUMMARY:Caminada al Turó del Marquès
LOCATION:
METHOD:PUBLISH
X-WR-CALNAME:castellbell@castellbellielvilar.cat
X-WR-TIMEZONE:Europe/Madrid
DESCRIPTION:Inscripcions obertes fins al 2 de maig a través de la pàgina de Facebook de l'Associació 'Amicsburés'

URI:https://www.castellbellielvilar.cat/actualitat/agenda/caminada-al-turo-del-marques.html
CLASS:PUBLIC
END:VEVENT
END:VCALENDAR
