BEGIN:VCALENDAR
VERSION:2.0
CALSCALE:GREGORIAN
PRODID:-//Diputació de Barcelona//DibaCMS//EN
BEGIN:VEVENT
UID:1753
DTSTAMP:20260425T151530
DTSTART:20190429T200000
DTEND:20190429T210000
SUMMARY:Sessió informativa adreçada a les entitats per a l'obtenció del certificat digital
LOCATION:
METHOD:PUBLISH
X-WR-CALNAME:castellbell@castellbellielvilar.cat
X-WR-TIMEZONE:Europe/Madrid
DESCRIPTION:'El certificat digital de l'entitat. Com obtenir-lo i per a què serveix?'

URI:https://www.castellbellielvilar.cat/actualitat/agenda/sessio-informativa-adrecada-a-les-entitats-per-a-lobtencio-del-certificat-digital.html
CLASS:PUBLIC
END:VEVENT
END:VCALENDAR
