BEGIN:VCALENDAR
VERSION:2.0
CALSCALE:GREGORIAN
PRODID:-//Diputació de Barcelona//DibaCMS//EN
BEGIN:VEVENT
UID:1718
DTSTAMP:20260425T145753
DTSTART:20190502T090000
DTEND:20190502T170000
SUMMARY:Portes obertes a l'escola bressol 'Els Colors'
LOCATION:
METHOD:PUBLISH
X-WR-CALNAME:castellbell@castellbellielvilar.cat
X-WR-TIMEZONE:Europe/Madrid
DESCRIPTION:
URI:https://www.castellbellielvilar.cat/actualitat/agenda/portes-obertes-a-lescola-bressol-els-colors.html
CLASS:PUBLIC
END:VEVENT
END:VCALENDAR
