BEGIN:VCALENDAR
VERSION:2.0
CALSCALE:GREGORIAN
PRODID:-//Diputació de Barcelona//DibaCMS//EN
BEGIN:VEVENT
UID:1710
DTSTAMP:20260425T220018
DTSTART:20190307T090000
DTEND:20190315T224500
SUMMARY:Actes amb motiu de la jornada del 8 de març
LOCATION:
METHOD:PUBLISH
X-WR-CALNAME:castellbell@castellbellielvilar.cat
X-WR-TIMEZONE:Europe/Madrid
DESCRIPTION:Consulteu totes les activitats previstes en el document adjunt

URI:https://www.castellbellielvilar.cat/actualitat/agenda/actes-amb-motiu-de-la-jornada-del-8-de-marc.html
CLASS:PUBLIC
END:VEVENT
END:VCALENDAR
