BEGIN:VCALENDAR
VERSION:2.0
CALSCALE:GREGORIAN
PRODID:-//Diputació de Barcelona//DibaCMS//EN
BEGIN:VEVENT
UID:1690
DTSTAMP:20260425T131315
DTSTART:20190511T000000
DTEND:20190512T000000
SUMMARY:Festa dels Resistents
LOCATION:
METHOD:PUBLISH
X-WR-CALNAME:castellbell@castellbellielvilar.cat
X-WR-TIMEZONE:Europe/Madrid
DESCRIPTION:El municipi celebra la festa de recreació històrica el cap de setmana de l'11 i 12 de maig

URI:https://www.castellbellielvilar.cat/actualitat/agenda/festa-dels-resistents.html
CLASS:PUBLIC
END:VEVENT
END:VCALENDAR
