BEGIN:VCALENDAR
VERSION:2.0
CALSCALE:GREGORIAN
PRODID:-//Diputació de Barcelona//DibaCMS//EN
BEGIN:VEVENT
UID:1684
DTSTAMP:20260425T145643
DTSTART:20190427T210000
DTEND:20190427T230000
SUMMARY:Tribut a Pepe Rubianes
LOCATION:
METHOD:PUBLISH
X-WR-CALNAME:castellbell@castellbellielvilar.cat
X-WR-TIMEZONE:Europe/Madrid
DESCRIPTION:Al Casino Borràs a les 9 del vespre amb la col·laboració de Sumarroca i Cal Riera

URI:https://www.castellbellielvilar.cat/actualitat/agenda/tribut-a-pepe-rubianes.html
CLASS:PUBLIC
END:VEVENT
END:VCALENDAR
