BEGIN:VCALENDAR
VERSION:2.0
CALSCALE:GREGORIAN
PRODID:-//Diputació de Barcelona//DibaCMS//EN
BEGIN:VEVENT
UID:1661
DTSTAMP:20260425T171905
DTSTART:20190706T000000
DTEND:20190707T000000
SUMMARY:Carros de foc (Parc Natural d' Aigües Tortes i Estany de Sant Maurici)
LOCATION:
METHOD:PUBLISH
X-WR-CALNAME:castellbell@castellbellielvilar.cat
X-WR-TIMEZONE:Europe/Madrid
DESCRIPTION:Travessa en dues etapes

URI:https://www.castellbellielvilar.cat/actualitat/agenda/carros-de-foc-parc-natural-d-aigues-tortes-i-estany-de-sant-maurici.html
CLASS:PUBLIC
END:VEVENT
END:VCALENDAR
