BEGIN:VCALENDAR
VERSION:2.0
CALSCALE:GREGORIAN
PRODID:-//Diputació de Barcelona//DibaCMS//EN
BEGIN:VEVENT
UID:1648
DTSTAMP:20260425T131057
DTSTART:20190131T190000
DTEND:20190131T200000
SUMMARY:Presentació de les propostes del Pressupost Participatiu 2019
LOCATION:
METHOD:PUBLISH
X-WR-CALNAME:castellbell@castellbellielvilar.cat
X-WR-TIMEZONE:Europe/Madrid
DESCRIPTION: La presentació de les propostes es durà a terme el proper 31 de gener al Centre Cultural Joan Masats a partir de les 7 de la tarda. Un cop feta la presentació també es facilitarà el vot de tots els assistents. Cadascuns dels veïns i veïnes de Castellbell i el Vilar majors de 16 anys podran votar un màxim de dues propostes. L’Ajuntament té la intenció de poder executar les obres de la idea guanyadora durant els propers mesos.


URI:https://www.castellbellielvilar.cat/actualitat/agenda/presentacio-de-les-propostes-del-pressupost-participatiu-2019.html
CLASS:PUBLIC
END:VEVENT
END:VCALENDAR
