BEGIN:VCALENDAR
VERSION:2.0
CALSCALE:GREGORIAN
PRODID:-//Diputació de Barcelona//DibaCMS//EN
BEGIN:VEVENT
UID:1645
DTSTAMP:20260425T131121
DTSTART:20190119T100000
DTEND:20190119T140000
SUMMARY:Taller Midori amb Maria Casal
LOCATION:
METHOD:PUBLISH
X-WR-CALNAME:castellbell@castellbellielvilar.cat
X-WR-TIMEZONE:Europe/Madrid
DESCRIPTION:

Aprendràs a fer una llibreta tipus 'Midori'

Consulteu tots els detalls de l'activitat en el document adjunt

Data inici

dissabte, 19. gener 2019

Horaris

De 10 a 14.00 hores

Preu

25 euros (inclou tot el material)



URI:https://www.castellbellielvilar.cat/actualitat/agenda/taller-midori-amb-maria-casal.html
CLASS:PUBLIC
END:VEVENT
END:VCALENDAR
