BEGIN:VCALENDAR
VERSION:2.0
CALSCALE:GREGORIAN
PRODID:-//Diputació de Barcelona//DibaCMS//EN
BEGIN:VEVENT
UID:1591
DTSTAMP:20260425T215743
DTSTART:20181118T070000
DTEND:20181118T210000
SUMMARY:Sortida a les Mines de Catllaràs (Berguedà)
LOCATION:
METHOD:PUBLISH
X-WR-CALNAME:castellbell@castellbellielvilar.cat
X-WR-TIMEZONE:Europe/Madrid
DESCRIPTION:
URI:https://www.castellbellielvilar.cat/actualitat/agenda/sortida-a-les-mines-de-catllaras-bergueda.html
CLASS:PUBLIC
END:VEVENT
END:VCALENDAR
